BEGIN:VCALENDAR
VERSION:2.0
PRODID:-//116.0.23.244//NONSGML kigkonsult.se iCalcreator 2.20//
CALSCALE:GREGORIAN
METHOD:PUBLISH
X-WR-CALNAME:Cranbourne Lions Concert Band
X-WR-CALDESC:
X-FROM-URL:http://cranbournelionsconcertband.org.au
X-WR-TIMEZONE:Australia/Melbourne
BEGIN:VTIMEZONE
TZID:Australia/Melbourne
X-LIC-LOCATION:Australia/Melbourne
BEGIN:STANDARD
DTSTART:20190407T030000
TZOFFSETFROM:+1100
TZOFFSETTO:+1000
TZNAME:AEST
END:STANDARD
BEGIN:DAYLIGHT
DTSTART:20181007T020000
TZOFFSETFROM:+1000
TZOFFSETTO:+1100
TZNAME:AEDT
END:DAYLIGHT
END:VTIMEZONE
BEGIN:VEVENT
UID:ai1ec-456@cranbournelionsconcertband.org.au
DTSTAMP:20190226T125831Z
CATEGORIES;LANGUAGE=en-US:Public Performance Details
CONTACT:
DESCRIPTION:<p>Always a wonderful event for the senior citizens in our area
 .</p>
DTSTART;TZID=Australia/Melbourne:20181209T120000
DTEND;TZID=Australia/Melbourne:20181209T160000
SEQUENCE:0
SUMMARY:Lions Senior Citizen’s Lunch
URL:http://cranbournelionsconcertband.org.au/event/lions-senior-citizens-lu
 nch/
X-COST-TYPE:free
END:VEVENT
END:VCALENDAR
