BEGIN:VCALENDAR
VERSION:2.0
PRODID:-//116.0.23.244//NONSGML kigkonsult.se iCalcreator 2.20//
CALSCALE:GREGORIAN
METHOD:PUBLISH
X-WR-CALNAME:Cranbourne Lions Concert Band
X-WR-CALDESC:
X-FROM-URL:http://cranbournelionsconcertband.org.au
X-WR-TIMEZONE:Australia/Melbourne
BEGIN:VTIMEZONE
TZID:Australia/Melbourne
X-LIC-LOCATION:Australia/Melbourne
BEGIN:STANDARD
DTSTART:20190407T030000
TZOFFSETFROM:+1100
TZOFFSETTO:+1000
TZNAME:AEST
END:STANDARD
BEGIN:DAYLIGHT
DTSTART:20181007T020000
TZOFFSETFROM:+1000
TZOFFSETTO:+1100
TZNAME:AEDT
END:DAYLIGHT
END:VTIMEZONE
BEGIN:VEVENT
UID:ai1ec-454@cranbournelionsconcertband.org.au
DTSTAMP:20190226T125508Z
CATEGORIES;LANGUAGE=en-US:Public Performance Details
CONTACT:
DESCRIPTION:We will be playing a combined concert with our friends from the
  Southern Peninsula Concert Band. We will play an individual set and then 
 join Southern Peninsula for a combined massed band\, which will be a lot o
 f fun!
DTSTART;TZID=Australia/Melbourne:20180617T140000
DTEND;TZID=Australia/Melbourne:20180617T163000
GEO:-38.356;+144.918
LOCATION:Rosebud Memorial Hall @ Rosebud VIC 3939\, Australia
SEQUENCE:0
SUMMARY:Southern Peninsula Concert
URL:http://cranbournelionsconcertband.org.au/event/southern-peninsula-conce
 rt/
X-COST-TYPE:free
X-ALT-DESC;FMTTYPE=text/html:<!DOCTYPE HTML PUBLIC '-//W3C//DTD HTML 3.2//E
 N'>\\n<HTML>\\n<HEAD>\\n<TITLE></TITLE>\\n</HEAD>\\n<BODY><p>We will be pl
 aying a combined concert with our friends from the Southern Peninsula Conc
 ert Band. We will play an individual set and then join Southern Peninsula 
 for a combined massed band\, which will be a lot of fun!</p>\n</BODY></HTM
 L>
END:VEVENT
END:VCALENDAR
