BEGIN:VCALENDAR
VERSION:2.0
PRODID:-//116.0.23.244//NONSGML kigkonsult.se iCalcreator 2.20//
CALSCALE:GREGORIAN
METHOD:PUBLISH
X-WR-CALNAME:Cranbourne Lions Concert Band
X-WR-CALDESC:
X-FROM-URL:http://cranbournelionsconcertband.org.au
X-WR-TIMEZONE:Australia/Melbourne
BEGIN:VTIMEZONE
TZID:Australia/Melbourne
X-LIC-LOCATION:Australia/Melbourne
BEGIN:STANDARD
DTSTART:20190407T030000
TZOFFSETFROM:+1100
TZOFFSETTO:+1000
TZNAME:AEST
END:STANDARD
BEGIN:DAYLIGHT
DTSTART:20181007T020000
TZOFFSETFROM:+1000
TZOFFSETTO:+1100
TZNAME:AEDT
END:DAYLIGHT
END:VTIMEZONE
BEGIN:VEVENT
UID:ai1ec-453@cranbournelionsconcertband.org.au
DTSTAMP:20190226T125526Z
CATEGORIES;LANGUAGE=en-US:Public Performance Details
CONTACT:
DESCRIPTION:<p>We will be playing at the Citizenship Ceremony for council o
 n this evening.</p>
DTSTART;TZID=Australia/Melbourne:20180627T180000
DTEND;TZID=Australia/Melbourne:20180627T190000
GEO:-38.018241;+145.302861
LOCATION:Bunjil Place @ 25-55 Overland Dr\, Narre Warren VIC 3805\, Austral
 ia
SEQUENCE:0
SUMMARY:Citizenship Ceremony
URL:http://cranbournelionsconcertband.org.au/event/citizenship-ceremony/
X-COST-TYPE:free
END:VEVENT
END:VCALENDAR
