BEGIN:VCALENDAR
VERSION:2.0
PRODID:-//116.0.23.244//NONSGML kigkonsult.se iCalcreator 2.20//
CALSCALE:GREGORIAN
METHOD:PUBLISH
X-WR-CALNAME:Cranbourne Lions Concert Band
X-WR-CALDESC:
X-FROM-URL:http://cranbournelionsconcertband.org.au
X-WR-TIMEZONE:Australia/Melbourne
BEGIN:VTIMEZONE
TZID:Australia/Melbourne
X-LIC-LOCATION:Australia/Melbourne
BEGIN:STANDARD
DTSTART:20190407T030000
TZOFFSETFROM:+1100
TZOFFSETTO:+1000
TZNAME:AEST
END:STANDARD
BEGIN:DAYLIGHT
DTSTART:20181007T020000
TZOFFSETFROM:+1000
TZOFFSETTO:+1100
TZNAME:AEDT
END:DAYLIGHT
END:VTIMEZONE
BEGIN:VEVENT
UID:ai1ec-438@cranbournelionsconcertband.org.au
DTSTAMP:20190226T125442Z
CATEGORIES;LANGUAGE=en-US:Public Performance Details
CONTACT:Chantelle Riordan\; 0425 730 990\; president@cranbournelionsconcert
 band.org.au
DESCRIPTION:
DTSTART;TZID=Australia/Melbourne:20171125T190000
DTEND;TZID=Australia/Melbourne:20171125T223000
GEO:-38.05167;+145.255646
LOCATION:Lynbrook Community Centre @ 2 Harris St\, Lynbrook VIC 3975\, Aust
 ralia
SEQUENCE:0
SUMMARY:Trivia Night
URL:http://cranbournelionsconcertband.org.au/event/trivia-night/
X-COST-TYPE:free
X-COST:$15
END:VEVENT
END:VCALENDAR
